BEGIN:VCALENDAR
VERSION:2.0
PRODID:-// - ECPv6.15.20//NONSGML v1.0//EN
CALSCALE:GREGORIAN
METHOD:PUBLISH
X-ORIGINAL-URL:https://my-stepup.be
X-WR-CALDESC:Evenementen voor 
REFRESH-INTERVAL;VALUE=DURATION:PT1H
X-Robots-Tag:noindex
X-PUBLISHED-TTL:PT1H
BEGIN:VTIMEZONE
TZID:UTC
BEGIN:STANDARD
TZOFFSETFROM:+0000
TZOFFSETTO:+0000
TZNAME:UTC
DTSTART:20230101T000000
END:STANDARD
END:VTIMEZONE
BEGIN:VEVENT
DTSTART;TZID=UTC:20241215T100000
DTEND;TZID=UTC:20241215T120000
DTSTAMP:20260422T145940
CREATED:20241112T143035Z
LAST-MODIFIED:20241112T150158Z
UID:460-1734256800-1734264000@my-stepup.be
SUMMARY:Soulcards Volwassenen
DESCRIPTION:Tijdens deze creatieve beleving voor volwassenen kom je in contact met je innerlijke wijsheid. Je ontdekt je sterke en zwakke punten\, elk aspect van je persoonlijkheid. Het is een methode om jezelf beter te leren kennen. \nWe starten met uitleg over wat soulcards zijn. Daarna ga je zelf aan de slag. Op jouw buikgevoel kies je prenten/foto’s die je aanspreken of die je aandacht trekken. Je hoeft nog niet te weten waarom je deze mooi vindt\, dat komt later wel. Wanneer we genoeg prenten verzameld hebben\, start het maken van jouw collages. Achteraf nemen we de tijd om jouw kaarten te lezen\, om te ontdekken welk innerlijk deeltje van jezelf je opgegraven hebt en hoe je jouw soulcards dagelijks kan gebruiken. \nDeze beleving gaat door in kleine groepjes van max. 4 personen
URL:https://my-stepup.be/event/soulcards-volwassenen-2/
LOCATION:Ingooigemplaats 27\, 8570 Ingooigem
END:VEVENT
END:VCALENDAR