BEGIN:VCALENDAR
VERSION:2.0
PRODID:-// - ECPv6.15.20//NONSGML v1.0//EN
CALSCALE:GREGORIAN
METHOD:PUBLISH
X-ORIGINAL-URL:https://my-stepup.be
X-WR-CALDESC:Evenementen voor 
REFRESH-INTERVAL;VALUE=DURATION:PT1H
X-Robots-Tag:noindex
X-PUBLISHED-TTL:PT1H
BEGIN:VTIMEZONE
TZID:UTC
BEGIN:STANDARD
TZOFFSETFROM:+0000
TZOFFSETTO:+0000
TZNAME:UTC
DTSTART:20230101T000000
END:STANDARD
END:VTIMEZONE
BEGIN:VEVENT
DTSTART;TZID=UTC:20241120T160000
DTEND;TZID=UTC:20241120T180000
DTSTAMP:20260420T181226
CREATED:20241112T140611Z
LAST-MODIFIED:20241112T150725Z
UID:425-1732118400-1732125600@my-stepup.be
SUMMARY:Krachtkaarten 12 - 18 jarigen
DESCRIPTION:Tijdens deze creatieve beleving voor jongeren van 12-18 jaar gaan we op innerlijke reis. In verbinding met jezelf vind je jouw verborgen krachten en gaan we die visualiseren. Dit helpt om ze later in verschillende situaties in te zetten. \nWe starten met wat uitleg over wat krachtkaarten zijn. Daarna ga je zelf aan de slag. Op jouw buikgevoel kies je prenten/foto’s die je aanspreken of die je aandacht trekken. Je hoeft nog niet te weten waarom je deze mooi vindt\, dat komt later wel. Wanneer we genoeg prenten verzameld hebben\, start het maken van jouw collages. Achteraf nemen we de tijd om jouw kaarten te lezen\, om te ontdekken welke kracht je opgegraven hebt en hoe je jouw krachtkaarten dagelijks kan gebruiken. \nDeze beleving gaat door in kleine groepjes van max. 4 personen.
URL:https://my-stepup.be/event/krachtkaarten-12-18-jarigen/
LOCATION:Ingooigemplaats 27\, 8570 Ingooigem
END:VEVENT
BEGIN:VEVENT
DTSTART;TZID=UTC:20241117T093000
DTEND;TZID=UTC:20241117T120000
DTSTAMP:20260420T181226
CREATED:20241114T172807Z
LAST-MODIFIED:20241114T173114Z
UID:659-1731835800-1731844800@my-stepup.be
SUMMARY:Step-Up Belevingsthee kennismaking
DESCRIPTION:Op zondag 17 november van 9.30 – 12u kan je me vinden in Tuincentrum De Molen te Waarmaarde. Kom gerust langs om de Step-Up Belevingsthee te proeven. \nActie zolang de voorraad het toelaat: Bij aankoop van de 4 verschillende soorten belevingsthee\, ontvang je een leuk persoonlijk cadeau! \nHopelijk tot dan\, \nLiefs Cindy
URL:https://my-stepup.be/event/659/
LOCATION:Tuincentrum De Molen\, Oudenaardsesteenweg 363\, Avelgem
END:VEVENT
END:VCALENDAR