BEGIN:VCALENDAR
VERSION:2.0
PRODID:-// - ECPv6.15.20//NONSGML v1.0//EN
CALSCALE:GREGORIAN
METHOD:PUBLISH
X-ORIGINAL-URL:https://my-stepup.be
X-WR-CALDESC:Evenementen voor 
REFRESH-INTERVAL;VALUE=DURATION:PT1H
X-Robots-Tag:noindex
X-PUBLISHED-TTL:PT1H
BEGIN:VTIMEZONE
TZID:UTC
BEGIN:STANDARD
TZOFFSETFROM:+0000
TZOFFSETTO:+0000
TZNAME:UTC
DTSTART:20240101T000000
END:STANDARD
END:VTIMEZONE
BEGIN:VEVENT
DTSTART;TZID=UTC:20250112T110000
DTEND;TZID=UTC:20250112T153000
DTSTAMP:20260422T120451
CREATED:20241227T124907Z
LAST-MODIFIED:20241227T124907Z
UID:879-1736679600-1736695800@my-stepup.be
SUMMARY:Kom binnen\, Proef en Beleef
DESCRIPTION:✨ Kom Binnen\, Proef & Beleef ✨\nBen je nieuwsgierig naar de unieke smaken en ervaringen van Step-Up Belevingsthee? Kom dan langs tijdens onze Kom Binnen\, Proef en Beleef!\n📅 Wanneer: 12/01/2025\n🕒 Tijd: 11u – 15.30u\n📍 Locatie: Ingooigemplaats 27\, 8570 Ingooigem\nWat kun je verwachten?\n🍵 Proef onze vier bijzondere theesoorten: Ochtendstond\, Pauzeren\, Powernippen en Avondgloren.\n🎁 Ontdek hoe Step-Up Belevingsthee het perfecte cadeau kan zijn – een warm gebaar vol beleving.\n🌟 Laat je inspireren door verhalen die je meenemen in een moment van rust en reflectie.\nKom langs\, proef en beleef!\nDe deuren staan open\, zonder afspraak\, en iedereen is welkom. Neem een momentje voor jezelf of verras een dierbare met een uniek geschenk. \nTot dan!
URL:https://my-stepup.be/event/kom-binnen-proef-en-beleef/
LOCATION:Ingooigemplaats 27\, 8570 Ingooigem
END:VEVENT
BEGIN:VEVENT
DTSTART;TZID=UTC:20250115T150000
DTEND;TZID=UTC:20250115T173000
DTSTAMP:20260422T120451
CREATED:20241227T130138Z
LAST-MODIFIED:20241227T131352Z
UID:887-1736953200-1736962200@my-stepup.be
SUMMARY:Krachtkaarten voor 12-18 jarigen
DESCRIPTION:Stap in de creatieve wereld van krachtkaarten maken! Deze inspirerende workshop is speciaal ontworpen voor jongeren van 12 tot 18 jaar en biedt een veilige ruimte om stil te staan bij wie je bent en wat jou kracht geeft. \nWe beginnen met het intuïtief kiezen van prenten uit tijdschriften – beelden die jou aanspreken en een gevoel oproepen. Vervolgens plak je deze prenten in collagevorm op kaartjes. Terwijl je creëert\, ontdek je onbewuste thema’s en symbolen die jouw innerlijke kracht weerspiegelen. \nWanneer de kaarten klaar zijn\, lezen we ze samen. Zo ontdekken we de verborgen boodschappen en krachten die erin verscholen liggen. Deze kaarten zijn niet alleen mooi om te maken\, maar ook waardevol als dagelijkse motivatie en herinnering aan je eigen kracht. \nSamen creëren we een fijne sfeer waarin je kunt delen\, lachen en jezelf kunt zijn. Ga naar huis met een unieke set krachtkaarten die jouw verhaal vertellen en je inspireren om altijd in jezelf te geloven. \nDuur: 2\,5u  –  Prijs: 40€  –  Locatie: Ingooigemplaats 27\, Ingooigem \nGroep van max. 4personen
URL:https://my-stepup.be/event/krachtkaarten-voor-12-18-jarigen/
LOCATION:Ingooigemplaats 27\, 8570 Ingooigem
END:VEVENT
BEGIN:VEVENT
DTSTART;TZID=UTC:20250120T190000
DTEND;TZID=UTC:20250120T210000
DTSTAMP:20260422T120451
CREATED:20241227T125604Z
LAST-MODIFIED:20241227T125604Z
UID:883-1737399600-1737406800@my-stepup.be
SUMMARY:Welkom zonder bellen
DESCRIPTION:Iedereen is welkom bij ‘Welkom zonder Bellen’! Een gratis en gezellig onderonsje waar je even kunt ontsnappen aan de drukte van het dagelijks leven. Kom langs\, drink een kopje thee\, blader door een boek of leen er eentje om thuis verder te lezen. Het is een plek om te ontspannen\, te verbinden en simpelweg te zijn. \nGeen afspraak nodig\, geen verplichtingen – gewoon binnenstappen en genieten. Voel je thuis bij Step-Up! \nDuur: 19u – 21u  –  Prijs: Gratis  –  Locatie: Ingooigemplaats 27\, Ingooigem
URL:https://my-stepup.be/event/welkom-zonder-bellen/
LOCATION:Ingooigemplaats 27\, 8570 Ingooigem
END:VEVENT
BEGIN:VEVENT
DTSTART;TZID=UTC:20250125T130000
DTEND;TZID=UTC:20250125T153000
DTSTAMP:20260422T120451
CREATED:20241227T130642Z
LAST-MODIFIED:20241227T131327Z
UID:892-1737810000-1737819000@my-stepup.be
SUMMARY:Soulcards voor volwassenen
DESCRIPTION:Deze creatieve workshop is speciaal ontworpen voor volwassenen die op zoek zijn naar inzicht\, inspiratie en persoonlijke groei. Tijdens het maken van Soulcards krijg je de kans om op een intuïtieve manier jouw innerlijke wereld te verkennen. \nWe werken met prenten uit tijdschriften die je op buikgevoel kiest. Deze beelden worden in collagevorm op kaarten geplakt en vormen een visueel dagboek van jouw emoties\, dromen en verlangens. Door samen te reflecteren op de kaarten\, ontdek je verborgen boodschappen en inzichten die je kunnen ondersteunen op je pad. \nSoulcards zijn meer dan kunstwerken; het zijn spiegels van je ziel en krachtige hulpmiddelen voor zelfontwikkeling. Ga naar huis met een reeks kaarten die je kracht geven en je helpen om vanuit je gevoel keuzes te maken. \nDuur: 2\,5u  –  Prijs: 40€  –  Locatie: Ingooigemplaats 27\, Ingooigem \nGroep van max. 4 personen
URL:https://my-stepup.be/event/soulcards-voor-volwassenen/
LOCATION:Ingooigemplaats 27\, 8570 Ingooigem
END:VEVENT
END:VCALENDAR