BEGIN:VCALENDAR
VERSION:2.0
PRODID:-// - ECPv6.15.20//NONSGML v1.0//EN
CALSCALE:GREGORIAN
METHOD:PUBLISH
X-ORIGINAL-URL:https://my-stepup.be
X-WR-CALDESC:Evenementen voor 
REFRESH-INTERVAL;VALUE=DURATION:PT1H
X-Robots-Tag:noindex
X-PUBLISHED-TTL:PT1H
BEGIN:VTIMEZONE
TZID:UTC
BEGIN:STANDARD
TZOFFSETFROM:+0000
TZOFFSETTO:+0000
TZNAME:UTC
DTSTART:20240101T000000
END:STANDARD
END:VTIMEZONE
BEGIN:VEVENT
DTSTART;TZID=UTC:20250212T150000
DTEND;TZID=UTC:20250212T173000
DTSTAMP:20260420T103519
CREATED:20241227T130343Z
LAST-MODIFIED:20241227T131149Z
UID:890-1739372400-1739381400@my-stepup.be
SUMMARY:Krachtkaarten voor 12 - 18 jarigen
DESCRIPTION:Stap in de creatieve wereld van krachtkaarten maken! Deze inspirerende workshop is speciaal ontworpen voor jongeren van 12 tot 18 jaar en biedt een veilige ruimte om stil te staan bij wie je bent en wat jou kracht geeft. \nWe beginnen met het intuïtief kiezen van prenten uit tijdschriften – beelden die jou aanspreken en een gevoel oproepen. Vervolgens plak je deze prenten in collagevorm op kaartjes. Terwijl je creëert\, ontdek je onbewuste thema’s en symbolen die jouw innerlijke kracht weerspiegelen. \nWanneer de kaarten klaar zijn\, lezen we ze samen. Zo ontdekken we de verborgen boodschappen en krachten die erin verscholen liggen. Deze kaarten zijn niet alleen mooi om te maken\, maar ook waardevol als dagelijkse motivatie en herinnering aan je eigen kracht. \nSamen creëren we een fijne sfeer waarin je kunt delen\, lachen en jezelf kunt zijn. Ga naar huis met een unieke set krachtkaarten die jouw verhaal vertellen en je inspireren om altijd in jezelf te geloven. \nDuur: 2\,5u  –  Prijs: 40€  –  Locatie: Ingooigemplaats 27\, Ingooigem \nGroep van max. 4personen
URL:https://my-stepup.be/event/krachtkaarten-voor-12-18-jarigen-2/
LOCATION:Ingooigemplaats 27\, 8570 Ingooigem
END:VEVENT
BEGIN:VEVENT
DTSTART;TZID=UTC:20250222T130000
DTEND;TZID=UTC:20250222T153000
DTSTAMP:20260420T103519
CREATED:20241227T130741Z
LAST-MODIFIED:20241227T131245Z
UID:894-1740229200-1740238200@my-stepup.be
SUMMARY:Soulcards voor volwassenen
DESCRIPTION:Deze creatieve workshop is speciaal ontworpen voor volwassenen die op zoek zijn naar inzicht\, inspiratie en persoonlijke groei. Tijdens het maken van Soulcards krijg je de kans om op een intuïtieve manier jouw innerlijke wereld te verkennen. \nWe werken met prenten uit tijdschriften die je op buikgevoel kiest. Deze beelden worden in collagevorm op kaarten geplakt en vormen een visueel dagboek van jouw emoties\, dromen en verlangens. Door samen te reflecteren op de kaarten\, ontdek je verborgen boodschappen en inzichten die je kunnen ondersteunen op je pad. \nSoulcards zijn meer dan kunstwerken; het zijn spiegels van je ziel en krachtige hulpmiddelen voor zelfontwikkeling. Ga naar huis met een reeks kaarten die je kracht geven en je helpen om vanuit je gevoel keuzes te maken. \nDuur: 2\,5u  –  Prijs: 40€  –  Locatie: Ingooigemplaats 27\, Ingooigem \nGroep van max. 4 personen
URL:https://my-stepup.be/event/soulcards-voor-volwassenen-2/
LOCATION:Ingooigemplaats 27\, 8570 Ingooigem
END:VEVENT
END:VCALENDAR